Name | Last modified | Size | Description | |
---|---|---|---|---|
Parent Directory | - | |||
install-summary.dcf | 18-Apr-2024 00:38 | 263 | ||
buildsrc-summary.dcf | 18-Apr-2024 00:38 | 419 | ||
checksrc-summary.dcf | 18-Apr-2024 00:38 | 438 | ||
buildbin-summary.dcf | 18-Apr-2024 00:38 | 512 | ||
buildsrc-out.txt | 18-Apr-2024 00:38 | 1.0K | ||
install-out.txt | 18-Apr-2024 00:38 | 6.5K | ||
buildbin-out.txt | 18-Apr-2024 00:38 | 8.3K | ||
checksrc-out.txt | 18-Apr-2024 00:38 | 14K | ||