Index of /checkResults/3.18/bioc-LATEST/psichomics/raw-results/palomino4

[ICO]NameLast modifiedSizeDescription

[DIR]Parent Directory  -  
[TXT]buildbin-out.txt30-Mar-2024 00:37 2.7K 
[   ]buildbin-summary.dcf30-Mar-2024 00:37 533  
[TXT]buildsrc-out.txt30-Mar-2024 00:37 923  
[   ]buildsrc-summary.dcf30-Mar-2024 00:37 465  
[TXT]checksrc-out.txt30-Mar-2024 00:37 4.4K 
[   ]checksrc-summary.dcf30-Mar-2024 00:37 459  
[TXT]install-out.txt30-Mar-2024 00:37 2.5K 
[   ]install-summary.dcf30-Mar-2024 00:37 275