Name | Last modified | Size | Description | |
---|---|---|---|---|
Parent Directory | - | |||
buildsrc-summary.dcf | 18-Apr-2024 00:38 | 350 | ||
buildsrc-out.txt | 18-Apr-2024 00:38 | 1.4K | ||
install-summary.dcf | 18-Apr-2024 00:38 | 276 | ||
install-out.txt | 18-Apr-2024 00:38 | 2.9K | ||
buildbin-summary.dcf | 13-Apr-2024 00:37 | 549 | ||
buildbin-out.txt | 13-Apr-2024 00:37 | 5.0K | ||
checksrc-summary.dcf | 13-Apr-2024 00:37 | 456 | ||
checksrc-out.txt | 13-Apr-2024 00:37 | 4.1K | ||