Name | Last modified | Size | Description | |
---|---|---|---|---|
Parent Directory | - | |||
install-summary.dcf | 03-Nov-2023 00:41 | 257 | ||
install-out.txt | 03-Nov-2023 00:41 | 1.3K | ||
checksrc-summary.dcf | 03-Nov-2023 00:41 | 431 | ||
checksrc-out.txt | 03-Nov-2023 00:41 | 5.9K | ||
buildsrc-summary.dcf | 03-Nov-2023 00:41 | 417 | ||
buildsrc-out.txt | 03-Nov-2023 00:41 | 848 | ||