Name | Last modified | Size | Description | |
---|---|---|---|---|
Parent Directory | - | |||
buildsrc-out.txt | 03-Nov-2023 00:41 | 855 | ||
buildsrc-summary.dcf | 03-Nov-2023 00:41 | 405 | ||
checksrc-out.txt | 03-Nov-2023 00:41 | 1.5K | ||
checksrc-summary.dcf | 03-Nov-2023 00:41 | 411 | ||
install-out.txt | 03-Nov-2023 00:41 | 942 | ||
install-summary.dcf | 03-Nov-2023 00:41 | 249 | ||