Name | Last modified | Size | Description | |
---|---|---|---|---|
Parent Directory | - | |||
install-summary.dcf | 18-Apr-2024 00:36 | 263 | ||
install-out.txt | 18-Apr-2024 00:36 | 966 | ||
checksrc-summary.dcf | 18-Apr-2024 00:36 | 428 | ||
checksrc-out.txt | 18-Apr-2024 00:36 | 25K | ||
buildsrc-summary.dcf | 18-Apr-2024 00:36 | 423 | ||
buildsrc-out.txt | 18-Apr-2024 00:36 | 877 | ||