Name | Last modified | Size | Description | |
---|---|---|---|---|
Parent Directory | - | |||
install-summary.dcf | 18-Apr-2024 00:38 | 278 | ||
buildsrc-summary.dcf | 18-Apr-2024 00:38 | 440 | ||
checksrc-summary.dcf | 18-Apr-2024 00:38 | 461 | ||
buildbin-summary.dcf | 18-Apr-2024 00:38 | 556 | ||
buildsrc-out.txt | 18-Apr-2024 00:38 | 875 | ||
install-out.txt | 18-Apr-2024 00:38 | 1.0K | ||
buildbin-out.txt | 18-Apr-2024 00:38 | 1.2K | ||
checksrc-out.txt | 18-Apr-2024 00:38 | 3.9K | ||