Name | Last modified | Size | Description | |
---|---|---|---|---|
Parent Directory | - | |||
buildbin-out.txt | 18-Apr-2024 00:38 | 1.6K | ||
buildbin-summary.dcf | 18-Apr-2024 00:38 | 554 | ||
buildsrc-out.txt | 18-Apr-2024 00:38 | 895 | ||
buildsrc-summary.dcf | 18-Apr-2024 00:38 | 440 | ||
checksrc-out.txt | 18-Apr-2024 00:38 | 4.0K | ||
checksrc-summary.dcf | 18-Apr-2024 00:38 | 466 | ||
install-out.txt | 18-Apr-2024 00:38 | 1.4K | ||
install-summary.dcf | 18-Apr-2024 00:38 | 277 | ||