Name | Last modified | Size | Description | |
---|---|---|---|---|
Parent Directory | - | |||
install-out.txt | 03-Nov-2023 00:41 | 946 | ||
install-summary.dcf | 03-Nov-2023 00:41 | 257 | ||
buildsrc-out.txt | 03-Nov-2023 00:41 | 808 | ||
buildsrc-summary.dcf | 03-Nov-2023 00:41 | 416 | ||
checksrc-out.txt | 03-Nov-2023 00:41 | 3.6K | ||
checksrc-summary.dcf | 03-Nov-2023 00:41 | 424 | ||