Name | Last modified | Size | Description | |
---|---|---|---|---|
Parent Directory | - | |||
buildsrc-out.txt | 18-Apr-2024 00:36 | 911 | ||
buildsrc-summary.dcf | 18-Apr-2024 00:36 | 427 | ||
checksrc-out.txt | 18-Apr-2024 00:36 | 6.3K | ||
checksrc-summary.dcf | 18-Apr-2024 00:36 | 426 | ||
install-out.txt | 18-Apr-2024 00:36 | 1.8K | ||
install-summary.dcf | 18-Apr-2024 00:36 | 265 | ||