Name | Last modified | Size | Description | |
---|---|---|---|---|
Parent Directory | - | |||
buildbin-summary.dcf | 18-Apr-2024 00:38 | 548 | ||
buildbin-out.txt | 18-Apr-2024 00:38 | 4.3K | ||
checksrc-summary.dcf | 18-Apr-2024 00:38 | 456 | ||
checksrc-out.txt | 18-Apr-2024 00:38 | 6.3K | ||
buildsrc-summary.dcf | 18-Apr-2024 00:38 | 436 | ||
buildsrc-out.txt | 18-Apr-2024 00:38 | 921 | ||
install-summary.dcf | 18-Apr-2024 00:38 | 275 | ||
install-out.txt | 18-Apr-2024 00:38 | 2.2K | ||