Name | Last modified | Size | Description | |
---|---|---|---|---|
Parent Directory | - | |||
buildbin-out.txt | 18-Apr-2024 00:37 | 1.1K | ||
buildbin-summary.dcf | 18-Apr-2024 00:37 | 515 | ||
buildsrc-out.txt | 18-Apr-2024 00:37 | 839 | ||
buildsrc-summary.dcf | 18-Apr-2024 00:37 | 453 | ||
checksrc-out.txt | 18-Apr-2024 00:37 | 6.0K | ||
checksrc-summary.dcf | 18-Apr-2024 00:37 | 447 | ||
install-out.txt | 18-Apr-2024 00:37 | 1.0K | ||
install-summary.dcf | 18-Apr-2024 00:37 | 267 | ||