Index of /checkResults/3.18/bioc-LATEST/ontoProc/raw-results/palomino4

[ICO]NameLast modifiedSizeDescription

[DIR]Parent Directory  -  
[TXT]buildbin-out.txt03-Mar-2024 01:36 1.1K 
[   ]buildbin-summary.dcf03-Mar-2024 01:36 521  
[TXT]buildsrc-out.txt03-Mar-2024 01:36 904  
[   ]buildsrc-summary.dcf03-Mar-2024 01:36 457  
[TXT]checksrc-out.txt03-Mar-2024 01:36 5.7K 
[   ]checksrc-summary.dcf03-Mar-2024 01:36 451  
[TXT]install-out.txt03-Mar-2024 01:36 1.0K 
[   ]install-summary.dcf03-Mar-2024 01:36 270