Index of /checkResults/3.18/bioc-LATEST/ontoProc/raw-results/lconway

[ICO]NameLast modifiedSizeDescription

[DIR]Parent Directory  -  
[TXT]buildbin-out.txt01-Mar-2024 01:38 1.2K 
[   ]buildbin-summary.dcf01-Mar-2024 01:38 536  
[TXT]buildsrc-out.txt01-Mar-2024 01:38 883  
[   ]buildsrc-summary.dcf01-Mar-2024 01:38 431  
[TXT]checksrc-out.txt01-Mar-2024 01:38 5.9K 
[   ]checksrc-summary.dcf01-Mar-2024 01:38 448  
[TXT]install-out.txt01-Mar-2024 01:38 1.0K 
[   ]install-summary.dcf01-Mar-2024 01:38 271