Name | Last modified | Size | Description | |
---|---|---|---|---|
Parent Directory | - | |||
install-summary.dcf | 18-Apr-2024 00:37 | 264 | ||
install-out.txt | 18-Apr-2024 00:37 | 5.1K | ||
checksrc-summary.dcf | 18-Apr-2024 00:37 | 445 | ||
checksrc-out.txt | 18-Apr-2024 00:37 | 7.0K | ||
buildsrc-summary.dcf | 18-Apr-2024 00:37 | 443 | ||
buildsrc-out.txt | 18-Apr-2024 00:37 | 1.0K | ||
buildbin-summary.dcf | 18-Apr-2024 00:37 | 503 | ||
buildbin-out.txt | 18-Apr-2024 00:37 | 5.2K | ||