Index of /checkResults/3.18/bioc-LATEST/oligo/raw-results/palomino4

[ICO]NameLast modifiedSizeDescription

[DIR]Parent Directory  -  
[TXT]buildbin-out.txt01-Mar-2024 01:37 5.2K 
[   ]buildbin-summary.dcf01-Mar-2024 01:37 503  
[TXT]buildsrc-out.txt01-Mar-2024 01:37 1.0K 
[   ]buildsrc-summary.dcf01-Mar-2024 01:37 443  
[TXT]checksrc-out.txt01-Mar-2024 01:37 7.0K 
[   ]checksrc-summary.dcf01-Mar-2024 01:37 445  
[TXT]install-out.txt01-Mar-2024 01:37 5.1K 
[   ]install-summary.dcf01-Mar-2024 01:37 264