Index of /checkResults/3.18/bioc-LATEST/oligo/raw-results/nebbiolo2

[ICO]NameLast modifiedSizeDescription

[DIR]Parent Directory  -  
[TXT]buildsrc-out.txt02-Mar-2024 01:36 876  
[   ]buildsrc-summary.dcf02-Mar-2024 01:36 410  
[TXT]checksrc-out.txt02-Mar-2024 01:36 8.4K 
[   ]checksrc-summary.dcf02-Mar-2024 01:36 412  
[TXT]install-out.txt02-Mar-2024 01:36 7.8K 
[   ]install-summary.dcf02-Mar-2024 01:36 255