Index of /checkResults/3.18/bioc-LATEST/oligo/raw-results/lconway

[ICO]NameLast modifiedSizeDescription

[DIR]Parent Directory  -  
[TXT]buildbin-out.txt01-Mar-2024 01:38 11K 
[   ]buildbin-summary.dcf01-Mar-2024 01:38 518  
[TXT]buildsrc-out.txt01-Mar-2024 01:38 886  
[   ]buildsrc-summary.dcf01-Mar-2024 01:38 420  
[TXT]checksrc-out.txt01-Mar-2024 01:38 8.7K 
[   ]checksrc-summary.dcf01-Mar-2024 01:38 442  
[TXT]install-out.txt01-Mar-2024 01:38 7.9K 
[   ]install-summary.dcf01-Mar-2024 01:38 265