Name | Last modified | Size | Description | |
---|---|---|---|---|
Parent Directory | - | |||
checksrc-out.txt | 03-Nov-2023 00:41 | 4.5K | ||
install-out.txt | 03-Nov-2023 00:41 | 1.4K | ||
buildsrc-out.txt | 03-Nov-2023 00:41 | 1.1K | ||
checksrc-summary.dcf | 03-Nov-2023 00:41 | 419 | ||
buildsrc-summary.dcf | 03-Nov-2023 00:41 | 409 | ||
install-summary.dcf | 03-Nov-2023 00:41 | 251 | ||