Name | Last modified | Size | Description | |
---|---|---|---|---|
Parent Directory | - | |||
buildbin-out.txt | 18-Apr-2024 00:38 | 16K | ||
buildbin-summary.dcf | 18-Apr-2024 00:38 | 537 | ||
buildsrc-out.txt | 18-Apr-2024 00:38 | 898 | ||
buildsrc-summary.dcf | 18-Apr-2024 00:38 | 431 | ||
checksrc-out.txt | 18-Apr-2024 00:38 | 5.3K | ||
checksrc-summary.dcf | 18-Apr-2024 00:38 | 454 | ||
install-out.txt | 18-Apr-2024 00:38 | 14K | ||
install-summary.dcf | 18-Apr-2024 00:38 | 272 | ||