Name | Last modified | Size | Description | |
---|---|---|---|---|
Parent Directory | - | |||
checksrc-out.txt | 18-Apr-2024 00:36 | 6.4K | ||
install-out.txt | 18-Apr-2024 00:36 | 3.0K | ||
buildsrc-out.txt | 18-Apr-2024 00:36 | 840 | ||
checksrc-summary.dcf | 18-Apr-2024 00:36 | 423 | ||
buildsrc-summary.dcf | 18-Apr-2024 00:36 | 420 | ||
install-summary.dcf | 18-Apr-2024 00:36 | 261 | ||