Name | Last modified | Size | Description | |
---|---|---|---|---|
Parent Directory | - | |||
checksrc-out.txt | 18-Apr-2024 00:38 | 6.5K | ||
buildbin-out.txt | 18-Apr-2024 00:38 | 5.6K | ||
install-out.txt | 18-Apr-2024 00:38 | 3.3K | ||
buildsrc-out.txt | 18-Apr-2024 00:38 | 850 | ||
buildbin-summary.dcf | 18-Apr-2024 00:38 | 536 | ||
checksrc-summary.dcf | 18-Apr-2024 00:38 | 454 | ||
buildsrc-summary.dcf | 18-Apr-2024 00:38 | 430 | ||
install-summary.dcf | 18-Apr-2024 00:38 | 271 | ||