Name | Last modified | Size | Description | |
---|---|---|---|---|
Parent Directory | - | |||
install-summary.dcf | 18-Apr-2024 00:37 | 263 | ||
buildsrc-summary.dcf | 18-Apr-2024 00:37 | 417 | ||
checksrc-summary.dcf | 18-Apr-2024 00:37 | 434 | ||
buildbin-summary.dcf | 18-Apr-2024 00:37 | 507 | ||
buildsrc-out.txt | 18-Apr-2024 00:37 | 878 | ||
checksrc-out.txt | 18-Apr-2024 00:37 | 5.6K | ||
install-out.txt | 18-Apr-2024 00:37 | 105K | ||
buildbin-out.txt | 18-Apr-2024 00:37 | 107K | ||