Name | Last modified | Size | Description | |
---|---|---|---|---|
Parent Directory | - | |||
install-summary.dcf | 05-Mar-2024 01:37 | 263 | ||
install-out.txt | 05-Mar-2024 01:37 | 1.0K | ||
checksrc-summary.dcf | 05-Mar-2024 01:37 | 431 | ||
checksrc-out.txt | 05-Mar-2024 01:37 | 3.8K | ||
buildsrc-summary.dcf | 05-Mar-2024 01:37 | 418 | ||
buildsrc-out.txt | 05-Mar-2024 01:37 | 804 | ||
buildbin-summary.dcf | 05-Mar-2024 01:37 | 512 | ||
buildbin-out.txt | 05-Mar-2024 01:37 | 1.1K | ||