Name | Last modified | Size | Description | |
---|---|---|---|---|
Parent Directory | - | |||
checksrc-summary.dcf | 03-Nov-2023 00:40 | 404 | ||
checksrc-out.txt | 03-Nov-2023 00:40 | 3.8K | ||
buildsrc-summary.dcf | 03-Nov-2023 00:40 | 401 | ||
buildsrc-out.txt | 03-Nov-2023 00:40 | 788 | ||
install-summary.dcf | 03-Nov-2023 00:40 | 247 | ||
install-out.txt | 03-Nov-2023 00:40 | 931 | ||