Name | Last modified | Size | Description | |
---|---|---|---|---|
Parent Directory | - | |||
install-summary.dcf | 18-Apr-2024 00:37 | 275 | ||
install-out.txt | 18-Apr-2024 00:37 | 1.0K | ||
checksrc-summary.dcf | 18-Apr-2024 00:37 | 456 | ||
checksrc-out.txt | 18-Apr-2024 00:37 | 3.4K | ||
buildsrc-summary.dcf | 18-Apr-2024 00:37 | 437 | ||
buildsrc-out.txt | 18-Apr-2024 00:37 | 828 | ||
buildbin-summary.dcf | 18-Apr-2024 00:37 | 549 | ||
buildbin-out.txt | 18-Apr-2024 00:37 | 1.2K | ||