Index of /checkResults/3.18/bioc-LATEST/monaLisa/raw-results/nebbiolo2

[ICO]NameLast modifiedSizeDescription

[DIR]Parent Directory  -  
[TXT]buildsrc-out.txt23-Feb-2024 01:36 849  
[   ]buildsrc-summary.dcf23-Feb-2024 01:36 419  
[TXT]checksrc-out.txt23-Feb-2024 01:36 3.3K 
[   ]checksrc-summary.dcf23-Feb-2024 01:36 416  
[TXT]install-out.txt23-Feb-2024 01:36 1.0K 
[   ]install-summary.dcf23-Feb-2024 01:36 260