Name | Last modified | Size | Description | |
---|---|---|---|---|
Parent Directory | - | |||
install-out.txt | 05-Mar-2024 01:37 | 2.6K | ||
install-summary.dcf | 05-Mar-2024 01:37 | 263 | ||
buildsrc-out.txt | 05-Mar-2024 01:37 | 834 | ||
buildsrc-summary.dcf | 05-Mar-2024 01:37 | 419 | ||
checksrc-out.txt | 05-Mar-2024 01:37 | 4.7K | ||
checksrc-summary.dcf | 05-Mar-2024 01:37 | 438 | ||
buildbin-out.txt | 05-Mar-2024 01:37 | 4.5K | ||
buildbin-summary.dcf | 05-Mar-2024 01:37 | 512 | ||