Name | Last modified | Size | Description | |
---|---|---|---|---|
Parent Directory | - | |||
checksrc-summary.dcf | 18-Apr-2024 00:36 | 454 | ||
checksrc-out.txt | 18-Apr-2024 00:36 | 3.8K | ||
buildsrc-summary.dcf | 18-Apr-2024 00:36 | 447 | ||
buildsrc-out.txt | 18-Apr-2024 00:36 | 909 | ||
install-summary.dcf | 18-Apr-2024 00:36 | 279 | ||
install-out.txt | 18-Apr-2024 00:36 | 1.0K | ||