Name | Last modified | Size | Description | |
---|---|---|---|---|
Parent Directory | - | |||
install-out.txt | 05-Mar-2024 01:37 | 1.0K | ||
install-summary.dcf | 05-Mar-2024 01:37 | 289 | ||
buildsrc-out.txt | 05-Mar-2024 01:37 | 919 | ||
buildsrc-summary.dcf | 05-Mar-2024 01:37 | 455 | ||
checksrc-out.txt | 05-Mar-2024 01:37 | 3.7K | ||
checksrc-summary.dcf | 05-Mar-2024 01:37 | 484 | ||
buildbin-out.txt | 05-Mar-2024 01:37 | 1.2K | ||
buildbin-summary.dcf | 05-Mar-2024 01:37 | 590 | ||