Name | Last modified | Size | Description | |
---|---|---|---|---|
Parent Directory | - | |||
checksrc-summary.dcf | 03-Nov-2023 00:40 | 461 | ||
checksrc-out.txt | 03-Nov-2023 00:40 | 4.0K | ||
buildsrc-summary.dcf | 03-Nov-2023 00:40 | 442 | ||
buildsrc-out.txt | 03-Nov-2023 00:40 | 903 | ||
install-summary.dcf | 03-Nov-2023 00:40 | 273 | ||
install-out.txt | 03-Nov-2023 00:40 | 1.0K | ||