Name | Last modified | Size | Description | |
---|---|---|---|---|
Parent Directory | - | |||
checksrc-summary.dcf | 18-Apr-2024 00:36 | 423 | ||
checksrc-out.txt | 18-Apr-2024 00:36 | 4.1K | ||
buildsrc-summary.dcf | 18-Apr-2024 00:36 | 424 | ||
buildsrc-out.txt | 18-Apr-2024 00:36 | 907 | ||
install-summary.dcf | 18-Apr-2024 00:36 | 263 | ||
install-out.txt | 18-Apr-2024 00:36 | 1.6K | ||