Name | Last modified | Size | Description | |
---|---|---|---|---|
Parent Directory | - | |||
checksrc-out.txt | 18-Apr-2024 00:37 | 4.1K | ||
buildbin-out.txt | 18-Apr-2024 00:37 | 3.8K | ||
install-out.txt | 18-Apr-2024 00:37 | 1.8K | ||
buildsrc-out.txt | 18-Apr-2024 00:37 | 917 | ||
buildbin-summary.dcf | 18-Apr-2024 00:37 | 543 | ||
checksrc-summary.dcf | 18-Apr-2024 00:37 | 453 | ||
buildsrc-summary.dcf | 18-Apr-2024 00:37 | 434 | ||
install-summary.dcf | 18-Apr-2024 00:37 | 274 | ||