Index of /checkResults/3.18/bioc-LATEST/mAPKL/raw-results/lconway
Name
Last modified
Size
Description
Parent Directory
-
install-summary.dcf
05-Mar-2024 01:37
265
install-out.txt
05-Mar-2024 01:37
1.2K
buildsrc-summary.dcf
05-Mar-2024 01:37
339
buildsrc-out.txt
05-Mar-2024 01:37
1.0K