Name | Last modified | Size | Description | |
---|---|---|---|---|
Parent Directory | - | |||
buildsrc-out.txt | 18-Apr-2024 00:36 | 890 | ||
buildsrc-summary.dcf | 18-Apr-2024 00:36 | 409 | ||
checksrc-out.txt | 18-Apr-2024 00:36 | 4.5K | ||
checksrc-summary.dcf | 18-Apr-2024 00:36 | 404 | ||
install-out.txt | 18-Apr-2024 00:36 | 2.0K | ||
install-summary.dcf | 18-Apr-2024 00:36 | 254 | ||