Name | Last modified | Size | Description | |
---|---|---|---|---|
Parent Directory | - | |||
buildbin-summary.dcf | 18-Apr-2024 00:37 | 515 | ||
buildbin-out.txt | 18-Apr-2024 00:37 | 6.0K | ||
checksrc-summary.dcf | 18-Apr-2024 00:37 | 434 | ||
checksrc-out.txt | 18-Apr-2024 00:37 | 4.7K | ||
buildsrc-summary.dcf | 18-Apr-2024 00:37 | 420 | ||
buildsrc-out.txt | 18-Apr-2024 00:37 | 900 | ||
install-summary.dcf | 18-Apr-2024 00:37 | 264 | ||
install-out.txt | 18-Apr-2024 00:37 | 2.5K | ||