Name | Last modified | Size | Description | |
---|---|---|---|---|
Parent Directory | - | |||
checksrc-summary.dcf | 03-Nov-2023 00:40 | 407 | ||
checksrc-out.txt | 03-Nov-2023 00:40 | 4.3K | ||
buildsrc-summary.dcf | 03-Nov-2023 00:40 | 404 | ||
buildsrc-out.txt | 03-Nov-2023 00:40 | 884 | ||
install-summary.dcf | 03-Nov-2023 00:40 | 248 | ||
install-out.txt | 03-Nov-2023 00:40 | 1.8K | ||