Name | Last modified | Size | Description | |
---|---|---|---|---|
Parent Directory | - | |||
install-summary.dcf | 18-Apr-2024 00:37 | 278 | ||
install-out.txt | 18-Apr-2024 00:37 | 1.0K | ||
checksrc-summary.dcf | 18-Apr-2024 00:37 | 461 | ||
checksrc-out.txt | 18-Apr-2024 00:37 | 4.4K | ||
buildsrc-summary.dcf | 18-Apr-2024 00:37 | 440 | ||
buildsrc-out.txt | 18-Apr-2024 00:37 | 895 | ||
buildbin-summary.dcf | 18-Apr-2024 00:37 | 555 | ||
buildbin-out.txt | 18-Apr-2024 00:37 | 1.2K | ||