Back to Multiple platform build/check report for BioC 3.18:   simplified   long
ABCDEFGHIJ[K]LMNOPQRSTUVWXYZ

This page was generated on 2023-11-28 11:37:48 -0500 (Tue, 28 Nov 2023).

HostnameOSArch (*)R versionInstalled pkgs
nebbiolo2Linux (Ubuntu 22.04.2 LTS)x86_644.3.2 Patched (2023-11-13 r85521) -- "Eye Holes" 4685
palomino4Windows Server 2022 Datacenterx644.3.2 (2023-10-31 ucrt) -- "Eye Holes" 4420
lconwaymacOS 12.7.1 Montereyx86_644.3.2 Patched (2023-11-01 r85457) -- "Eye Holes" 4439
Click on any hostname to see more info about the system (e.g. compilers)      (*) as reported by 'uname -p', except on Windows and Mac OS X

Package 1071/2266HostnameOS / ArchINSTALLBUILDCHECKBUILD BIN
karyoploteR 1.28.0  (landing page)
Bernat Gel
Snapshot Date: 2023-11-27 14:05:07 -0500 (Mon, 27 Nov 2023)
git_url: https://git.bioconductor.org/packages/karyoploteR
git_branch: RELEASE_3_18
git_last_commit: 20fa00f
git_last_commit_date: 2023-10-24 10:55:15 -0500 (Tue, 24 Oct 2023)
nebbiolo2Linux (Ubuntu 22.04.2 LTS) / x86_64  OK    OK    OK  UNNEEDED, same version is already published
palomino4Windows Server 2022 Datacenter / x64  OK    OK    OK    OK  UNNEEDED, same version is already published
lconwaymacOS 12.7.1 Monterey / x86_64  OK    OK    OK    OK  UNNEEDED, same version is already published
kjohnson1macOS 13.6.1 Ventura / arm64see weekly results here

CHECK results for karyoploteR on lconway


To the developers/maintainers of the karyoploteR package:
- Allow up to 24 hours (and sometimes 48 hours) for your latest push to git@git.bioconductor.org:packages/karyoploteR.git to reflect on this report. See Troubleshooting Build Report for more information.
- Use the following Renviron settings to reproduce errors and warnings.
- If 'R CMD check' started to fail recently on the Linux builder(s) over a missing dependency, add the missing dependency to 'Suggests:' in your DESCRIPTION file. See Renviron.bioc for more information.

raw results


Summary

Package: karyoploteR
Version: 1.28.0
Command: /Library/Frameworks/R.framework/Resources/bin/R CMD check --install=check:karyoploteR.install-out.txt --library=/Library/Frameworks/R.framework/Resources/library --no-vignettes --timings karyoploteR_1.28.0.tar.gz
StartedAt: 2023-11-27 20:41:05 -0500 (Mon, 27 Nov 2023)
EndedAt: 2023-11-27 20:50:53 -0500 (Mon, 27 Nov 2023)
EllapsedTime: 588.4 seconds
RetCode: 0
Status:   OK  
CheckDir: karyoploteR.Rcheck
Warnings: 0

Command output

##############################################################################
##############################################################################
###
### Running command:
###
###   /Library/Frameworks/R.framework/Resources/bin/R CMD check --install=check:karyoploteR.install-out.txt --library=/Library/Frameworks/R.framework/Resources/library --no-vignettes --timings karyoploteR_1.28.0.tar.gz
###
##############################################################################
##############################################################################


* using log directory ‘/Users/biocbuild/bbs-3.18-bioc/meat/karyoploteR.Rcheck’
* using R version 4.3.2 Patched (2023-11-01 r85457)
* using platform: x86_64-apple-darwin20 (64-bit)
* R was compiled by
    Apple clang version 14.0.3 (clang-1403.0.22.14.1)
    GNU Fortran (GCC) 12.2.0
* running under: macOS Monterey 12.7.1
* using session charset: UTF-8
* using option ‘--no-vignettes’
* checking for file ‘karyoploteR/DESCRIPTION’ ... OK
* checking extension type ... Package
* this is package ‘karyoploteR’ version ‘1.28.0’
* package encoding: UTF-8
* checking package namespace information ... OK
* checking package dependencies ... OK
* checking if this is a source package ... OK
* checking if there is a namespace ... OK
* checking for hidden files and directories ... OK
* checking for portable file names ... OK
* checking for sufficient/correct file permissions ... OK
* checking whether package ‘karyoploteR’ can be installed ... OK
* checking installed package size ... OK
* checking package directory ... OK
* checking ‘build’ directory ... OK
* checking DESCRIPTION meta-information ... NOTE
Packages listed in more than one of Depends, Imports, Suggests, Enhances:
  ‘regioneR’ ‘GenomicRanges’
A package should be listed in only one of these fields.
* checking top-level files ... OK
* checking for left-over files ... OK
* checking index information ... OK
* checking package subdirectories ... NOTE
Problems with news in ‘NEWS’:
  Cannot process chunk/lines:
    NEW FEATURES
  Cannot process chunk/lines:
    SIGNIFICANT USER-VISIBLE CHANGES
  Cannot process chunk/lines:
    NEW FEATURES
  Cannot process chunk/lines:
    SIGNIFICANT USER-VISIBLE CHANGES
* checking R files for non-ASCII characters ... OK
* checking R files for syntax errors ... OK
* checking whether the package can be loaded ... OK
* checking whether the package can be loaded with stated dependencies ... OK
* checking whether the package can be unloaded cleanly ... OK
* checking whether the namespace can be loaded with stated dependencies ... OK
* checking whether the namespace can be unloaded cleanly ... OK
* checking startup messages can be suppressed ... OK
* checking dependencies in R code ... OK
* checking S3 generic/method consistency ... OK
* checking replacement functions ... OK
* checking foreign function calls ... OK
* checking R code for possible problems ... OK
* checking Rd files ... OK
* checking Rd metadata ... OK
* checking Rd cross-references ... OK
* checking for missing documentation entries ... OK
* checking for code/documentation mismatches ... OK
* checking Rd \usage sections ... OK
* checking Rd contents ... OK
* checking for unstated dependencies in examples ... OK
* checking R/sysdata.rda ... OK
* checking files in ‘vignettes’ ... OK
* checking examples ... OK
Examples with CPU (user + system) or elapsed time > 5s
                    user system elapsed
kpPlotDensity     37.472  3.252  50.434
kpPlotGenes       21.880  0.537  33.587
mergeTranscripts  17.254  0.181  17.709
kpPlotRegions     13.523  0.065  13.670
kpPlotHorizon     13.189  0.064  18.061
kpPlotBAMCoverage  8.355  0.291   9.901
kpPlotTranscripts  7.318  0.051   7.409
kpPlotManhattan    4.756  0.162   5.089
addGeneNames       3.160  0.133   5.768
* checking for unstated dependencies in ‘tests’ ... OK
* checking tests ...
  Running ‘testthat.R’
 OK
* checking for unstated dependencies in vignettes ... OK
* checking package vignettes in ‘inst/doc’ ... OK
* checking running R code from vignettes ... SKIPPED
* checking re-building of vignette outputs ... SKIPPED
* checking PDF version of manual ... OK
* DONE

Status: 2 NOTEs
See
  ‘/Users/biocbuild/bbs-3.18-bioc/meat/karyoploteR.Rcheck/00check.log’
for details.



Installation output

karyoploteR.Rcheck/00install.out

##############################################################################
##############################################################################
###
### Running command:
###
###   /Library/Frameworks/R.framework/Resources/bin/R CMD INSTALL karyoploteR
###
##############################################################################
##############################################################################


* installing to library ‘/Library/Frameworks/R.framework/Versions/4.3-x86_64/Resources/library’
* installing *source* package ‘karyoploteR’ ...
** using staged installation
** R
** inst
** byte-compile and prepare package for lazy loading
** help
*** installing help indices
** building package indices
** installing vignettes
** testing if installed package can be loaded from temporary location
** testing if installed package can be loaded from final location
** testing if installed package keeps a record of temporary installation path
* DONE (karyoploteR)

Tests output

karyoploteR.Rcheck/tests/testthat.Rout


R version 4.3.2 Patched (2023-11-01 r85457) -- "Eye Holes"
Copyright (C) 2023 The R Foundation for Statistical Computing
Platform: x86_64-apple-darwin20 (64-bit)

R is free software and comes with ABSOLUTELY NO WARRANTY.
You are welcome to redistribute it under certain conditions.
Type 'license()' or 'licence()' for distribution details.

R is a collaborative project with many contributors.
Type 'contributors()' for more information and
'citation()' on how to cite R or R packages in publications.

Type 'demo()' for some demos, 'help()' for on-line help, or
'help.start()' for an HTML browser interface to help.
Type 'q()' to quit R.

> library(testthat)
> library(karyoploteR)
Loading required package: regioneR
Loading required package: GenomicRanges
Loading required package: stats4
Loading required package: BiocGenerics

Attaching package: 'BiocGenerics'

The following objects are masked from 'package:stats':

    IQR, mad, sd, var, xtabs

The following objects are masked from 'package:base':

    Filter, Find, Map, Position, Reduce, anyDuplicated, aperm, append,
    as.data.frame, basename, cbind, colnames, dirname, do.call,
    duplicated, eval, evalq, get, grep, grepl, intersect, is.unsorted,
    lapply, mapply, match, mget, order, paste, pmax, pmax.int, pmin,
    pmin.int, rank, rbind, rownames, sapply, setdiff, sort, table,
    tapply, union, unique, unsplit, which.max, which.min

Loading required package: S4Vectors

Attaching package: 'S4Vectors'

The following object is masked from 'package:utils':

    findMatches

The following objects are masked from 'package:base':

    I, expand.grid, unname

Loading required package: IRanges
Loading required package: GenomeInfoDb
> 
> test_check("karyoploteR")
[ FAIL 0 | WARN 0 | SKIP 3 | PASS 177 ]

══ Skipped tests (3) ═══════════════════════════════════════════════════════════
• empty test (3): 'test_plotKaryotype.R:27:1', 'test_plotKaryotype.R:34:1',
  'test_plotKaryotype.R:44:1'

[ FAIL 0 | WARN 0 | SKIP 3 | PASS 177 ]
> 
> proc.time()
   user  system elapsed 
 17.744   0.890  20.529 

Example timings

karyoploteR.Rcheck/karyoploteR-Ex.timings

nameusersystemelapsed
addGeneNames3.1600.1335.768
autotrack0.0010.0010.001
colByCategory0.0030.0010.004
colByChr0.5010.0110.559
colByRegion1.2550.1552.562
colByValue0.2170.0060.224
darker0.0000.0000.002
filterParams0.0000.0010.000
findIntersections0.1310.0020.133
getChromosomeNamesBoundingBox0.0520.0010.054
getColorSchemas0.0010.0030.004
getCytobandColors0.0010.0020.003
getCytobands0.0010.0000.002
getDataPanelBoundingBox0.0490.0020.051
getDefaultPlotParams0.0800.0100.092
getMainTitleBoundingBox0.0430.0020.045
getTextSize0.0870.0020.225
getVariantsColors0.0010.0010.002
horizonColors0.0040.0000.005
is.color0.0010.0010.002
kpAbline2.1650.6844.645
kpAddBaseNumbers0.4110.0060.611
kpAddChromosomeNames0.0360.0020.039
kpAddChromosomeSeparators0.5040.0071.193
kpAddColorRect0.2140.0030.340
kpAddCytobandLabels0.3940.0071.509
kpAddCytobands0.0330.0010.035
kpAddCytobandsAsLine0.0720.0030.076
kpAddLabels0.4540.0081.628
kpAddMainTitle0.0370.0020.040
kpArea0.3380.0060.380
kpArrows0.5190.0111.646
kpAxis0.2990.0050.347
kpBars0.1910.0030.197
kpDataBackground0.2230.0030.340
kpHeatmap0.1450.0030.148
kpLines0.2960.0060.304
kpPlotBAMCoverage8.3550.2919.901
kpPlotBAMDensity1.6020.0412.221
kpPlotBigWig0.8930.0220.984
kpPlotCoverage0.4470.0151.282
kpPlotDensity37.472 3.25250.434
kpPlotGenes21.880 0.53733.587
kpPlotHorizon13.189 0.06418.061
kpPlotLinks1.0020.0132.545
kpPlotLoess0.0760.0040.296
kpPlotManhattan4.7560.1625.089
kpPlotMarkers1.9270.0261.972
kpPlotNames0.1090.0010.111
kpPlotRainfall0.8990.0110.918
kpPlotRegions13.523 0.06513.670
kpPlotRibbon0.1020.0030.106
kpPlotTranscripts7.3180.0517.409
kpPoints0.2430.0030.247
kpPolygon0.2500.0080.260
kpRect0.8170.0080.828
kpSegments0.4800.0030.485
kpText0.3010.0040.307
lighter0.0010.0010.002
makeGenesDataFromTxDb3.5310.0823.634
mergeTranscripts17.254 0.18117.709
plotDefaultPlotParams0.2260.0050.260
plotKaryotype1.1280.0511.462
plotPalettes0.0210.0040.026
prepareParameters20.0460.0040.066
prepareParameters40.0380.0040.047
processClipping0.0410.0030.044
transparent0.0010.0000.002