Name | Last modified | Size | Description | |
---|---|---|---|---|
Parent Directory | - | |||
checksrc-out.txt | 18-Apr-2024 00:36 | 3.2K | ||
install-out.txt | 18-Apr-2024 00:36 | 946 | ||
buildsrc-out.txt | 18-Apr-2024 00:36 | 798 | ||
buildsrc-summary.dcf | 18-Apr-2024 00:36 | 411 | ||
checksrc-summary.dcf | 18-Apr-2024 00:36 | 406 | ||
install-summary.dcf | 18-Apr-2024 00:36 | 255 | ||