Name | Last modified | Size | Description | |
---|---|---|---|---|
Parent Directory | - | |||
checksrc-out.txt | 03-Nov-2023 00:40 | 3.5K | ||
install-out.txt | 03-Nov-2023 00:40 | 934 | ||
buildsrc-out.txt | 03-Nov-2023 00:40 | 792 | ||
checksrc-summary.dcf | 03-Nov-2023 00:40 | 409 | ||
buildsrc-summary.dcf | 03-Nov-2023 00:40 | 405 | ||
install-summary.dcf | 03-Nov-2023 00:40 | 249 | ||