Name | Last modified | Size | Description | |
---|---|---|---|---|
Parent Directory | - | |||
buildsrc-out.txt | 03-Nov-2023 00:40 | 945 | ||
buildsrc-summary.dcf | 03-Nov-2023 00:40 | 414 | ||
checksrc-out.txt | 03-Nov-2023 00:40 | 9.4K | ||
checksrc-summary.dcf | 03-Nov-2023 00:40 | 426 | ||
install-out.txt | 03-Nov-2023 00:40 | 6.2K | ||
install-summary.dcf | 03-Nov-2023 00:40 | 255 | ||