Name | Last modified | Size | Description | |
---|---|---|---|---|
Parent Directory | - | |||
install-out.txt | 18-Apr-2024 00:36 | 960 | ||
install-summary.dcf | 18-Apr-2024 00:36 | 259 | ||
buildsrc-out.txt | 18-Apr-2024 00:36 | 869 | ||
buildsrc-summary.dcf | 18-Apr-2024 00:36 | 418 | ||
checksrc-out.txt | 18-Apr-2024 00:36 | 5.3K | ||
checksrc-summary.dcf | 18-Apr-2024 00:36 | 414 | ||