Back to Multiple platform build/check report for BioC 3.18:   simplified   long
ABCDEF[G]HIJKLMNOPQRSTUVWXYZ

This page was generated on 2023-12-05 11:37:43 -0500 (Tue, 05 Dec 2023).

HostnameOSArch (*)R versionInstalled pkgs
nebbiolo2Linux (Ubuntu 22.04.2 LTS)x86_644.3.2 Patched (2023-11-13 r85521) -- "Eye Holes" 4688
palomino4Windows Server 2022 Datacenterx644.3.2 (2023-10-31 ucrt) -- "Eye Holes" 4421
lconwaymacOS 12.7.1 Montereyx86_644.3.2 Patched (2023-11-01 r85457) -- "Eye Holes" 4440
Click on any hostname to see more info about the system (e.g. compilers)      (*) as reported by 'uname -p', except on Windows and Mac OS X

Package 925/2266HostnameOS / ArchINSTALLBUILDCHECKBUILD BIN
gwascat 2.34.0  (landing page)
VJ Carey
Snapshot Date: 2023-12-04 14:05:07 -0500 (Mon, 04 Dec 2023)
git_url: https://git.bioconductor.org/packages/gwascat
git_branch: RELEASE_3_18
git_last_commit: 9252d33
git_last_commit_date: 2023-10-24 09:49:29 -0500 (Tue, 24 Oct 2023)
nebbiolo2Linux (Ubuntu 22.04.2 LTS) / x86_64  OK    OK    OK  UNNEEDED, same version is already published
palomino4Windows Server 2022 Datacenter / x64  OK    OK    OK    OK  UNNEEDED, same version is already published
lconwaymacOS 12.7.1 Monterey / x86_64  OK    OK    OK    OK  UNNEEDED, same version is already published
kjohnson1macOS 13.6.1 Ventura / arm64see weekly results here

BUILD BIN results for gwascat on lconway


To the developers/maintainers of the gwascat package:
- Allow up to 24 hours (and sometimes 48 hours) for your latest push to git@git.bioconductor.org:packages/gwascat.git to reflect on this report. See Troubleshooting Build Report for more information.
- Use the following Renviron settings to reproduce errors and warnings.
- If 'R CMD check' started to fail recently on the Linux builder(s) over a missing dependency, add the missing dependency to 'Suggests:' in your DESCRIPTION file. See Renviron.bioc for more information.

raw results


Summary

Package: gwascat
Version: 2.34.0
Command: rm -rf gwascat.buildbin-libdir && mkdir gwascat.buildbin-libdir && /Users/biocbuild/BBS/utils/build-universal.sh gwascat_2.34.0.tar.gz /Library/Frameworks/R.framework/Resources/bin/R gwascat.buildbin-libdir
StartedAt: 2023-12-04 23:57:37 -0500 (Mon, 04 Dec 2023)
EndedAt: 2023-12-04 23:58:45 -0500 (Mon, 04 Dec 2023)
EllapsedTime: 67.8 seconds
RetCode: 0
Status:   OK  
PackageFile: gwascat_2.34.0.tgz
PackageFileSize: 34.19 MiB

Command output

##############################################################################
##############################################################################
###
### Running command:
###
###   rm -rf gwascat.buildbin-libdir && mkdir gwascat.buildbin-libdir && /Users/biocbuild/BBS/utils/build-universal.sh gwascat_2.34.0.tar.gz /Library/Frameworks/R.framework/Resources/bin/R gwascat.buildbin-libdir
###
##############################################################################
##############################################################################


>>>>>>> 
>>>>>>> INSTALLATION WITH 'R CMD INSTALL --preclean --no-multiarch --library=gwascat.buildbin-libdir gwascat_2.34.0.tar.gz'
>>>>>>> 

* installing *source* package ‘gwascat’ ...
** using staged installation
** R
** data
** inst
** byte-compile and prepare package for lazy loading
** help
*** installing help indices
** building package indices
** installing vignettes
** testing if installed package can be loaded from temporary location
** testing if installed package can be loaded from final location
** testing if installed package keeps a record of temporary installation path
* DONE (gwascat)