Name | Last modified | Size | Description | |
---|---|---|---|---|
Parent Directory | - | |||
install-summary.dcf | 18-Apr-2024 00:37 | 267 | ||
buildsrc-summary.dcf | 18-Apr-2024 00:37 | 425 | ||
checksrc-summary.dcf | 18-Apr-2024 00:37 | 446 | ||
buildbin-summary.dcf | 18-Apr-2024 00:37 | 525 | ||
buildsrc-out.txt | 18-Apr-2024 00:37 | 882 | ||
install-out.txt | 18-Apr-2024 00:37 | 3.6K | ||
checksrc-out.txt | 18-Apr-2024 00:37 | 4.3K | ||
buildbin-out.txt | 18-Apr-2024 00:37 | 7.1K | ||