Index of /checkResults/3.18/bioc-LATEST/gpls/raw-results/palomino4

[ICO]NameLast modifiedSizeDescription

[DIR]Parent Directory  -  
[TXT]buildbin-out.txt30-Mar-2024 00:36 1.2K 
[   ]buildbin-summary.dcf30-Mar-2024 00:36 496  
[TXT]buildsrc-out.txt30-Mar-2024 00:36 824  
[   ]buildsrc-summary.dcf30-Mar-2024 00:36 440  
[TXT]checksrc-out.txt30-Mar-2024 00:36 4.2K 
[   ]checksrc-summary.dcf30-Mar-2024 00:36 440  
[TXT]install-out.txt30-Mar-2024 00:36 1.0K 
[   ]install-summary.dcf30-Mar-2024 00:36 262