Index of /checkResults/3.18/bioc-LATEST/gpls/raw-results/nebbiolo2

[ICO]NameLast modifiedSizeDescription

[DIR]Parent Directory  -  
[TXT]buildsrc-out.txt30-Mar-2024 00:36 794  
[   ]buildsrc-summary.dcf30-Mar-2024 00:36 407  
[TXT]checksrc-out.txt30-Mar-2024 00:36 4.2K 
[   ]checksrc-summary.dcf30-Mar-2024 00:36 407  
[TXT]install-out.txt30-Mar-2024 00:36 1.0K 
[   ]install-summary.dcf30-Mar-2024 00:36 252