Name | Last modified | Size | Description | |
---|---|---|---|---|
Parent Directory | - | |||
install-out.txt | 03-Nov-2023 00:40 | 949 | ||
install-summary.dcf | 03-Nov-2023 00:40 | 259 | ||
buildsrc-out.txt | 03-Nov-2023 00:40 | 812 | ||
buildsrc-summary.dcf | 03-Nov-2023 00:40 | 421 | ||
checksrc-out.txt | 03-Nov-2023 00:40 | 3.0K | ||
checksrc-summary.dcf | 03-Nov-2023 00:40 | 429 | ||