Name | Last modified | Size | Description | |
---|---|---|---|---|
Parent Directory | - | |||
buildsrc-out.txt | 03-Nov-2023 00:40 | 816 | ||
buildsrc-summary.dcf | 03-Nov-2023 00:40 | 423 | ||
checksrc-out.txt | 03-Nov-2023 00:40 | 3.3K | ||
checksrc-summary.dcf | 03-Nov-2023 00:40 | 432 | ||
install-out.txt | 03-Nov-2023 00:40 | 952 | ||
install-summary.dcf | 03-Nov-2023 00:40 | 260 | ||