Name | Last modified | Size | Description | |
---|---|---|---|---|
Parent Directory | - | |||
install-out.txt | 18-Apr-2024 00:36 | 1.0K | ||
install-summary.dcf | 18-Apr-2024 00:36 | 276 | ||
buildsrc-out.txt | 18-Apr-2024 00:36 | 919 | ||
buildsrc-summary.dcf | 18-Apr-2024 00:36 | 468 | ||
checksrc-out.txt | 18-Apr-2024 00:36 | 4.2K | ||
checksrc-summary.dcf | 18-Apr-2024 00:36 | 463 | ||
buildbin-out.txt | 18-Apr-2024 00:36 | 1.1K | ||
buildbin-summary.dcf | 18-Apr-2024 00:36 | 539 | ||